BEGIN:VCALENDAR
VERSION:2.0
PRODID:-//Library Market//iCal Export//EN
BEGIN:VEVENT
SUMMARY:Galaxy Lanterns Drop-In Workshop
UID:13752
DTSTAMP:20260425T200200Z
DTSTART:20260629T180000Z
DTEND:20260629T200000Z
LOCATION:2020 Frederica Street, Owensboro, KY 42301, United States
ROOM: Children&#039;s Programming Room
DESCRIPTION:Recommended for ages 6–12: Create your own glowing galaxy! K
 ids will paint a white paper lantern using vibrant colors and splatter tec
 hniques to make a mini galaxy to take home. While supplies last. Adult su
 pervision is required.   
URL:https://daviesscounty.librarycalendar.com/event/galaxy-lanterns-worksh
 op-13752
END:VEVENT
END:VCALENDAR
