BEGIN:VCALENDAR
VERSION:2.0
PRODID:-//Library Market//iCal Export//EN
BEGIN:VEVENT
SUMMARY:I Spy Challenge
UID:13747
DTSTAMP:20260424T025400Z
DTSTART:20260713T050000Z
DTEND:20260719T050000Z
LOCATION:2020 Frederica Street, Owensboro, KY 42301, United States
ROOM: Children&#039;s Desk
DESCRIPTION:In lieu of our monthly scavenger hunt, search the Children&#03
 9;s Area&#039;s I SPY banner for hidden objects, and take home a mystery p
 rize!
URL:https://daviesscounty.librarycalendar.com/event/i-spy-challenge-13747
END:VEVENT
END:VCALENDAR
