BEGIN:VCALENDAR
VERSION:2.0
PRODID:-//Library Market//iCal Export//EN
BEGIN:VEVENT
SUMMARY:A Galaxy of Stories: 2026 Summer Reading Program
UID:13642
DTSTAMP:20260425T015600Z
DTSTART:20260527T050000Z
DTEND:20260731T050000Z
LOCATION:2020 Frederica Street, Owensboro, KY 42301, United States
ROOM: A Galaxy of Stories: 2026 Summer Reading Program
DESCRIPTION:Read A Galaxy of Stories with us this summer! The reading prog
 ram runs May 27 to July 31 and is open to all ages. Every hour of reading 
 or library program attended (up to 4) will enter participants into a final
  prize drawing for their age category (ages 0-2, 3-5, 6-8, 9-12, 13-18, or
  19+). Participants can register at https://dcplibrary.beanstack.org or by
  using the Beanstack mobile app on their smart device. We have registrati
 on prizes for all children who register for the program. Children will als
 o be eligible to win weekly prizes by logging their reading. Children who 
 complete 15 and 30 hours of reading will receive an additional prize. Reg
 istering for the reading program does not register you for in-person progr
 ams at the library. 
URL:https://daviesscounty.librarycalendar.com/event/galaxy-stories-2026-su
 mmer-reading-program-13642
END:VEVENT
END:VCALENDAR
