BEGIN:VCALENDAR
VERSION:2.0
PRODID:-//Library Market//iCal Export//EN
BEGIN:VEVENT
SUMMARY:Into the Upside Down: Stranger Things Party (Teens)
UID:13572
DTSTAMP:20260425T113400Z
DTSTART:20260630T230000Z
DTEND:20260701T010000Z
LOCATION:2020 Frederica Street, Owensboro, KY 42301, United States
ROOM: 2nd Floor Programming Area
DESCRIPTION:Enjoy crafts, trivia, and a Stranger Things escape room! For a
 ges 13-18.
URL:https://daviesscounty.librarycalendar.com/event/upside-down-stranger-t
 hings-party-teens-13572
END:VEVENT
END:VCALENDAR
