BEGIN:VCALENDAR
VERSION:2.0
PRODID:-//Library Market//iCal Export//EN
BEGIN:VEVENT
SUMMARY:Mini Thinkers
UID:11786
DTSTAMP:20260425T015600Z
DTSTART:20260623T150000Z
DTEND:20260623T153000Z
LOCATION:2020 Frederica Street, Owensboro, KY 42301, United States
ROOM: Children&#039;s Programming Room
DESCRIPTION:
URL:https://daviesscounty.librarycalendar.com/event/mini-thinkers-11786
END:VEVENT
END:VCALENDAR
