BEGIN:VCALENDAR
VERSION:2.0
PRODID:-//Library Market//iCal Export//EN
BEGIN:VEVENT
SUMMARY:Tiny Dancers
UID:11751
DTSTAMP:20260426T002300Z
DTSTART:20260707T150000Z
DTEND:20260707T153000Z
LOCATION:2020 Frederica Street, Owensboro, KY 42301, United States
ROOM: Children&#039;s Programming Room
DESCRIPTION:
URL:https://daviesscounty.librarycalendar.com/event/tiny-dancers-11751
END:VEVENT
END:VCALENDAR
